Workbook

Sheet 申請の流れ
B7: 申請の流れ
B16: 入力シートに必要事項を入力
E19: 入力例
B35: 各シートを印刷
B52: 赤枠部分に押印またはフルネームで自署
B61: 所属支部へ持参 or 郵送
B69: 申請完了

Sheet 入力シート
B1: 基本情報
B2: 会社名 | D2: 会社所在地 ※郵便番号はハイフンあり | H2: 連絡先担当者 | K2: 第一支部
D3: 〒 | K3: 第二支部 | M3: =SUBSTITUTE(D3,"〒","")
B4: 電話番号（携帯電話等） ※ハイフンあり、半角数字 | C4: メールアドレス | D4: 電話 ※ハイフンあり、半角数字 | H4: 所属支部 | K4: 第三支部
D5: FAX ※ハイフンあり、半角数字 | K5: 第四支部
K6: 尾東支部
B7: チーム情報① | K7: 尾西支部
B8: チーム名 | C8: 営業所名 | D8: 送付先（会社所在地と同じ場合は無記入） | K8: 知多支部
D9: 〒 | K9: 西三支部 | M9: =SUBSTITUTE(D9,"〒","")
B10: 免許証番号 | C10: 委任者氏名 | D10: フリガナ ※自動入力 | E10: 生年月日 | H10: 職種 | K10: 東三支部
E11: 年(西暦) | F11: 月 | G11: 日
A12: 1 | D12: =PHONETIC(C12) | K12: ドライバー | L12: =IFERROR(DATE(E12,F12,G12)," ")
A13: 2 | D13: =PHONETIC(C13) | K13: それ以外 | L13: =IFERROR(DATE(E13,F13,G13)," ")
A14: 3 | D14: =PHONETIC(C14) | L14: =IFERROR(DATE(E14,F14,G14)," ")
A15: 4 | D15: =PHONETIC(C15) | L15: =IFERROR(DATE(E15,F15,G15)," ")
A16: 5 | D16: =PHONETIC(C16) | L16: =IFERROR(DATE(E16,F16,G16)," ")
L17: =IFERROR(DATE(E17,F17,G17)," ")
B18: チーム情報② | L18: =IFERROR(DATE(E18,F18,G18)," ")
B19: チーム名 | C19: 営業所名 | D19: 送付先（会社所在地と同じ場合は無記入） ※郵便番号はハイフンあり | L19: =IFERROR(DATE(E19,F19,G19)," ")
D20: 〒 | L20: =IFERROR(DATE(E20,F20,G20)," ") | M20: =SUBSTITUTE(D20,"〒","")
B21: 免許証番号 | C21: 委任者氏名 | D21: フリガナ ※自動入力 | E21: 生年月日 | H21: 職種 | L21: =IFERROR(DATE(E21,F21,G21)," ")
E22: 年(西暦) | F22: 月 | G22: 日 | L22: =IFERROR(DATE(E22,F22,G22)," ")
A23: 1 | D23: =PHONETIC(C23) | K23: ドライバー | L23: =IFERROR(DATE(E23,F23,G23)," ")
A24: 2 | D24: =PHONETIC(C24) | K24: それ以外 | L24: =IFERROR(DATE(E24,F24,G24)," ")
A25: 3 | D25: =PHONETIC(C25) | L25: =IFERROR(DATE(E25,F25,G25)," ")
A26: 4 | D26: =PHONETIC(C26) | L26: =IFERROR(DATE(E26,F26,G26)," ")
A27: 5 | D27: =PHONETIC(C27) | L27: =IFERROR(DATE(E27,F27,G27)," ")
L28: =IFERROR(DATE(E28,F28,G28)," ")
B29: チーム情報③ | L29: =IFERROR(DATE(E29,F29,G29)," ")
B30: チーム名 | C30: 営業所名 | D30: 送付先（会社所在地と同じ場合は無記入） | L30: =IFERROR(DATE(E30,F30,G30)," ")
D31: 〒 | L31: =IFERROR(DATE(E31,F31,G31)," ") | M31: =SUBSTITUTE(D31,"〒","")
B32: 免許証番号 | C32: 委任者氏名 | D32: フリガナ ※自動入力 | E32: 生年月日 | H32: 職種 | L32: =IFERROR(DATE(E32,F32,G32)," ")
E33: 年(西暦) | F33: 月 | G33: 日 | L33: =IFERROR(DATE(E33,F33,G33)," ")
A34: 1 | D34: =PHONETIC(C34) | K34: ドライバー | L34: =IFERROR(DATE(E34,F34,G34)," ")
A35: 2 | D35: =PHONETIC(C35) | K35: それ以外 | L35: =IFERROR(DATE(E35,F35,G35)," ")
A36: 3 | D36: =PHONETIC(C36) | L36: =IFERROR(DATE(E36,F36,G36)," ")
A37: 4 | D37: =PHONETIC(C37) | L37: =IFERROR(DATE(E37,F37,G37)," ")
A38: 5 | D38: =PHONETIC(C38) | L38: =IFERROR(DATE(E38,F38,G38)," ")
L39: =IFERROR(DATE(E39,F39,G39)," ")
B40: チーム情報④ | L40: =IFERROR(DATE(E40,F40,G40)," ")
...

Sheet 入力シート (入力例)
B1: 基本情報
B2: 会社名 | D2: 会社所在地 | H2: 連絡先担当者 | K2: 第一支部
B3: 一般社団法人愛知県トラック協会 | D3: 〒470-0207 | E3: 愛知県みよし市福谷町西ノ洞21-127 | H3: 愛ト太郎 | K3: 第二支部
B4: 電話番号（携帯電話等） ※ハイフンあり、半角数字 | C4: メールアドレス | D4: 電話 ※ハイフンあり、半角数字 | E4: 0561-36-1010 | H4: 所属支部 | K4: 第三支部
B5: 090-0000-0000 | C5: ***@****.co.jp | D5: FAX ※ハイフンあり、半角数字 | E5: 0561-36-1210 | H5: 西三支部 | K5: 第四支部
K6: 尾東支部
B7: チーム情報① | K7: 尾西支部
B8: チーム名 | C8: 営業所名 | D8: 送付先（会社所在地と同じ場合は無記入） | K8: 知多支部
B9: 業務部第1 | C9: 大須営業所 | D9: 〒460-0011 | E9: 愛知県中区大須4丁目10‐32 | K9: 西三支部
B10: 免許証番号 | C10: 委任者氏名 | D10: フリガナ ※自動入力 | E10: 生年月日 | H10: 職種 | K10: 東三支部
E11: 年(西暦) | F11: 月 | G11: 日
A12: 1 | B12: 123456789012 | C12: 愛ト一郎 | D12: =PHONETIC(C12) -> アイトイチロウ | E12: 1981 | F12: 1 | G12: 11 | H12: ドライバー | K12: ドライバー | L12: =IFERROR(DATE(E12,F12,G12)," ") -> 29597
A13: 2 | B13: 234567890123 | C13: 愛ト二郎 | D13: =PHONETIC(C13) -> アイトジロウ | E13: 1982 | F13: 2 | G13: 12 | H13: それ以外 | K13: それ以外 | L13: =IFERROR(DATE(E13,F13,G13)," ") -> 29994
A14: 3 | B14: 345678901234 | C14: 愛ト三郎 | D14: =PHONETIC(C14) -> アイトサブロウ | E14: 1983 | F14: 3 | G14: 13 | H14: ドライバー | L14: =IFERROR(DATE(E14,F14,G14)," ") -> 30388
A15: 4 | B15: 456789012345 | C15: 愛ト四郎 | D15: =PHONETIC(C15) -> アイトシロウ | E15: 1984 | F15: 4 | G15: 14 | H15: それ以外 | L15: =IFERROR(DATE(E15,F15,G15)," ") -> 30786
A16: 5 | B16: 567890123456 | C16: 愛ト五郎 | D16: =PHONETIC(C16) -> アイトゴロウ | E16: 1985 | F16: 5 | G16: 15 | H16: ドライバー | L16: =IFERROR(DATE(E16,F16,G16)," ") -> 31182
L17: =IFERROR(DATE(E17,F17,G17)," ")

Sheet チーム①
AM1: 別紙
C2: トラック・セーフティ・ラリー参加申込書・運転記録証明書交付申請書
C3: 委任状 （委任者一覧）
V4: （代理人） | Y4: 法人名 | AB4: 一般社団法人 愛知県トラック協会
Y5: (事業所名)
B8: 私たち、トラック・セーフティ・ラリー参加者は、代理人及びチーム代表者に運転記録証明書の交付申請手続き及び証明書受領にかかる一切の事務を委任しました。
B10: また、自動車安全運転センターが証明書の内容を交通事故防止の為、統計分析資料の作成に使用し提供すること、並びに無事故・無違反運動のチーム結果を代理人及びチーム代表者に通知すること、併せて下記事項についても同意いたします。
C13: 提供した情報を貴協会が本事業に必要な範囲において使用することに同意します。
C14: ① | D14: 申請者全員が委任事項に同意した | V14: ② | W14: 全員の押印（シャチハタ可、電子印不可）もしくはフルネームでの自署が揃った
C15: ③ | D15: １チーム5名で申請（※１チームに限り４名以下でオープン参加可能） | V15: ④ | W15: 他チームに委任者が重複していない
C16: ⑤ 申込事業所は愛知県内の認可営業所であり、愛知県外の営業所は含まれていない
B18: ※ | C18: 免許証番号の 間違い や 走り書き は結果の紹介が大きく遅延し、表彰対象から外れる恐れがあります。 また不備等により４名以下となったチームは未達成扱いとなり達成率が下がります。ご注意をお願いします。
B20: センター使用欄 （記入しないでください） | J20: 免許証番号 （※マイナ免許証のみ所有の場合はアプリで 免許証番号をご確認の上、記入ください） | V20: フリガナ | AD20: 職種 どちらかに○ | AG20: 印 もしくは 自署 （フルネーム） | AJ20: 生年月日
V21: 委任者氏名(※免許証通りに記入ください）
J22: =DBCS(入力シート!B12) | V22: =入力シート!D12 | AD22: =入力シート!H12 -> 0 | AJ22: =入力シート!L12
V23: =入力シート!C12 -> 0 | AR23: 日
J25: =DBCS(入力シート!B13) | V25: =入力シート!D13 | AD25: =入力シート!H13 -> 0 | AJ25: =入力シート!L13
V26: =入力シート!C13 -> 0 | AR26: 日
J28: =DBCS(入力シート!B14) | V28: =入力シート!D14 | AD28: =入力シート!H14 -> 0 | AJ28: =入力シート!L14
V29: =入力シート!C14 -> 0 | AR29: 日
J31: =DBCS(入力シート!B15) | V31: =入力シート!D15 | AD31: =入力シート!H15 -> 0 | AJ31: =入力シート!L15
V32: =入力シート!C15 -> 0 | AR32: 日
J34: =DBCS(入力シート!B16) | V34: =入力シート!D16 | AD34: =入力シート!H16 -> 0 | AJ34: =入力シート!L16
V35: =入力シート!C16 -> 0 | AR35: 日
B37: 無事故・無違反運動 のチーム結果 | J37: 達成 | P37: ・ | Q37: 未達成 | V37: 委任年月日 | AD37: 令和 | AG37: 8 | AH37: 年 | AI37: 6 | AK37: 月 | AN37: 30 | AQ37: 日
B41: 会社所在地 | K41: 〒 | L41: =入力シート!M3
L42: =入力シート!E3 -> 0 | AB42: 電話 | AD42: =入力シート!E4 -> 0
AB43: ＦＡＸ | AD43: =入力シート!E5 -> 0
B45: 送付先 ※上記と同じ場合は空欄 | K45: 〒 | L45: =入力シート!M9
L46: =入力シート!E9 -> 0
B48: 会社名 | L48: =入力シート!B3 -> 0
B51: 営業所名 | L51: =入力シート!C9 -> 0 | X51: ※ 達成時の認定証を営業所ごとに希望される場合のみご記入してください。 ※ 愛知県内の事業所のみが対象となります。
B53: チーム名 | L53: =入力シート!B9 -> 0
B56: 連絡先担当者 | L56: =入力シート!H3 -> 0 | V56: 電話番号(携帯電話等) | AC56: =入力シート!B5 -> 0
AB57: ※ 必ず日中連絡可能な連絡先を記入してください。
B59: メールアドレス | L59: =入力シート!C5 -> 0
AB62: 所属支部名： | AI62: =入力シート!H5 -> 0

Sheet チーム②
AM1: 別紙
C2: トラック・セーフティ・ラリー参加申込書・運転記録証明書交付申請書
C3: 委任状 （委任者一覧）
V4: （代理人） | Y4: 法人名 | AB4: 一般社団法人 愛知県トラック協会
Y5: (事業所名)
B8: 私たち、トラック・セーフティ・ラリー参加者は、代理人及びチーム代表者に運転記録証明書の交付申請手続き及び証明書受領にかかる一切の事務を委任しました。
B10: また、自動車安全運転センターが証明書の内容を交通事故防止の為、統計分析資料の作成に使用し提供すること、並びに無事故・無違反運動のチーム結果を代理人及びチーム代表者に通知すること、併せて下記事項についても同意いたします。
C13: 提供した情報を貴協会が本事業に必要な範囲において使用することに同意します。
C14: ① | D14: 申請者全員が委任事項に同意した | V14: ② | W14: 全員の押印（シャチハタ可、電子印不可）もしくはフルネームでの自署が揃った
C15: ③ | D15: １チーム5名で申請（※１チームに限り４名以下でオープン参加可能） | V15: ④ | W15: 他チームに委任者が重複していない
C16: ⑤ 申込事業所は愛知県内の認可営業所であり、愛知県外の営業所は含まれていない
B18: ※ | C18: 免許証番号の 間違い や 走り書き は結果の紹介が大きく遅延し、表彰対象から外れる恐れがあります。 また不備等により４名以下となったチームは未達成扱いとなり達成率が下がります。ご注意をお願いします。
B20: センター使用欄 （記入しないでください） | J20: 免許証番号 （※マイナ免許証のみ所有の場合はアプリで 免許証番号をご確認の上、記入ください） | V20: フリガナ | AD20: 職種 どちらかに○ | AG20: 印 もしくは 自署 （フルネーム） | AJ20: 生年月日
V21: 委任者氏名(※免許証通りに記入ください）
J22: =DBCS(入力シート!B23) | V22: =入力シート!D23 | AD22: =入力シート!H23 -> 0 | AJ22: =入力シート!L23
V23: =入力シート!C23 -> 0 | AR23: 日
J25: =DBCS(入力シート!B24) | V25: =入力シート!D24 | AD25: =入力シート!H24 -> 0 | AJ25: =入力シート!L24
V26: =入力シート!C24 -> 0 | AR26: 日
J28: =DBCS(入力シート!B25) | V28: =入力シート!D25 | AD28: =入力シート!H25 -> 0 | AJ28: =入力シート!L25
V29: =入力シート!C25 -> 0 | AR29: 日
J31: =DBCS(入力シート!B26) | V31: =入力シート!D26 | AD31: =入力シート!H26 -> 0 | AJ31: =入力シート!L26
V32: =入力シート!C26 -> 0 | AR32: 日
J34: =DBCS(入力シート!B27) | V34: =入力シート!D27 | AD34: =入力シート!H27 -> 0 | AJ34: =入力シート!L27
V35: =入力シート!C27 -> 0 | AR35: 日
B37: 無事故・無違反運動 のチーム結果 | J37: 達成 | P37: ・ | Q37: 未達成 | V37: 委任年月日 | AD37: 令和 | AG37: 8 | AH37: 年 | AI37: 6 | AK37: 月 | AN37: 30 | AQ37: 日
B41: 会社所在地 | K41: 〒 | L41: =入力シート!M3
L42: =入力シート!E3 -> 0 | AB42: 電話 | AD42: =入力シート!E4 -> 0
AB43: ＦＡＸ | AD43: =入力シート!E5 -> 0
B45: 送付先 ※上記と同じ場合は空欄 | K45: 〒 | L45: =入力シート!M20
L46: =入力シート!E20 -> 0
B48: 会社名 | L48: =入力シート!B3 -> 0
B51: 営業所名 | L51: =入力シート!C20 -> 0 | X51: ※ 達成時の認定証を営業所ごとに希望される場合のみご記入してください。 ※ 愛知県内の事業所のみが対象となります。
B53: チーム名 | L53: =入力シート!B20 -> 0
B56: 連絡先担当者 | L56: =入力シート!H3 -> 0 | V56: 電話番号(携帯電話等) | AC56: =入力シート!B5 -> 0
AB57: ※ 必ず日中連絡可能な連絡先を記入してください。
B59: メールアドレス | L59: =入力シート!C5 -> 0
AB62: 所属支部名： | AI62: =入力シート!H5 -> 0

Sheet チーム③
AM1: 別紙
C2: トラック・セーフティ・ラリー参加申込書・運転記録証明書交付申請書
C3: 委任状 （委任者一覧）
V4: （代理人） | Y4: 法人名 | AB4: 一般社団法人 愛知県トラック協会
Y5: (事業所名)
B8: 私たち、トラック・セーフティ・ラリー参加者は、代理人及びチーム代表者に運転記録証明書の交付申請手続き及び証明書受領にかかる一切の事務を委任しました。
B10: また、自動車安全運転センターが証明書の内容を交通事故防止の為、統計分析資料の作成に使用し提供すること、並びに無事故・無違反運動のチーム結果を代理人及びチーム代表者に通知すること、併せて下記事項についても同意いたします。
C13: 提供した情報を貴協会が本事業に必要な範囲において使用することに同意します。
C14: ① | D14: 申請者全員が委任事項に同意した | V14: ② | W14: 全員の押印（シャチハタ可、電子印不可）もしくはフルネームでの自署が揃った
C15: ③ | D15: １チーム5名で申請（※１チームに限り４名以下でオープン参加可能） | V15: ④ | W15: 他チームに委任者が重複していない
C16: ⑤ 申込事業所は愛知県内の認可営業所であり、愛知県外の営業所は含まれていない
B18: ※ | C18: 免許証番号の 間違い や 走り書き は結果の紹介が大きく遅延し、表彰対象から外れる恐れがあります。 また不備等により４名以下となったチームは未達成扱いとなり達成率が下がります。ご注意をお願いします。
B20: センター使用欄 （記入しないでください） | J20: 免許証番号 （※マイナ免許証のみ所有の場合はアプリで 免許証番号をご確認の上、記入ください） | V20: フリガナ | AD20: 職種 どちらかに○ | AG20: 印 もしくは 自署 （フルネーム） | AJ20: 生年月日
V21: 委任者氏名(※免許証通りに記入ください）
J22: =DBCS(入力シート!B34) | V22: =入力シート!D34 | AD22: =入力シート!H34 -> 0 | AJ22: =入力シート!L34
V23: =入力シート!C34 -> 0 | AR23: 日
J25: =DBCS(入力シート!B35) | V25: =入力シート!D35 | AD25: =入力シート!H35 -> 0 | AJ25: =入力シート!L35
V26: =入力シート!C35 -> 0 | AR26: 日
J28: =DBCS(入力シート!B36) | V28: =入力シート!D36 | AD28: =入力シート!H36 -> 0 | AJ28: =入力シート!L36
V29: =入力シート!C36 -> 0 | AR29: 日
J31: =DBCS(入力シート!B37) | V31: =入力シート!D37 | AD31: =入力シート!H37 -> 0 | AJ31: =入力シート!L37
V32: =入力シート!C37 -> 0 | AR32: 日
J34: =DBCS(入力シート!B38) | V34: =入力シート!D38 | AD34: =入力シート!H38 -> 0 | AJ34: =入力シート!L38
V35: =入力シート!C38 -> 0 | AR35: 日
B37: 無事故・無違反運動 のチーム結果 | J37: 達成 | P37: ・ | Q37: 未達成 | V37: 委任年月日 | AD37: 令和 | AG37: 8 | AH37: 年 | AI37: 6 | AK37: 月 | AN37: 30 | AQ37: 日
B41: 会社所在地 | K41: 〒 | L41: =入力シート!M3
L42: =入力シート!E3 -> 0 | AB42: 電話 | AD42: =入力シート!E4 -> 0
AB43: ＦＡＸ | AD43: =入力シート!E5 -> 0
B45: 送付先 ※上記と同じ場合は空欄 | K45: 〒 | L45: =入力シート!M31
L46: =入力シート!E31 -> 0
B48: 会社名 | L48: =入力シート!B3 -> 0
B51: 営業所名 | L51: =入力シート!C31 -> 0 | X51: ※ 達成時の認定証を営業所ごとに希望される場合のみご記入してください。 ※ 愛知県内の事業所のみが対象となります。
B53: チーム名 | L53: =入力シート!B31 -> 0
B56: 連絡先担当者 | L56: =入力シート!H3 -> 0 | V56: 電話番号(携帯電話等) | AC56: =入力シート!B5 -> 0
AB57: ※ 必ず日中連絡可能な連絡先を記入してください。
B59: メールアドレス | L59: =入力シート!C5 -> 0
AB62: 所属支部名： | AI62: =入力シート!H5 -> 0

Sheet チーム④
AM1: 別紙
C2: トラック・セーフティ・ラリー参加申込書・運転記録証明書交付申請書
C3: 委任状 （委任者一覧）
V4: （代理人） | Y4: 法人名 | AB4: 一般社団法人 愛知県トラック協会
Y5: (事業所名)
B8: 私たち、トラック・セーフティ・ラリー参加者は、代理人及びチーム代表者に運転記録証明書の交付申請手続き及び証明書受領にかかる一切の事務を委任しました。
B10: また、自動車安全運転センターが証明書の内容を交通事故防止の為、統計分析資料の作成に使用し提供すること、並びに無事故・無違反運動のチーム結果を代理人及びチーム代表者に通知すること、併せて下記事項についても同意いたします。
C13: 提供した情報を貴協会が本事業に必要な範囲において使用することに同意します。
C14: ① | D14: 申請者全員が委任事項に同意した | V14: ② | W14: 全員の押印（シャチハタ可、電子印不可）もしくはフルネームでの自署が揃った
C15: ③ | D15: １チーム5名で申請（※１チームに限り４名以下でオープン参加可能） | V15: ④ | W15: 他チームに委任者が重複していない
C16: ⑤ 申込事業所は愛知県内の認可営業所であり、愛知県外の営業所は含まれていない
B18: ※ | C18: 免許証番号の 間違い や 走り書き は結果の紹介が大きく遅延し、表彰対象から外れる恐れがあります。 また不備等により４名以下となったチームは未達成扱いとなり達成率が下がります。ご注意をお願いします。
B20: センター使用欄 （記入しないでください） | J20: 免許証番号 （※マイナ免許証のみ所有の場合はアプリで 免許証番号をご確認の上、記入ください） | V20: フリガナ | AD20: 職種 どちらかに○ | AG20: 印 もしくは 自署 （フルネーム） | AJ20: 生年月日
V21: 委任者氏名(※免許証通りに記入ください）
J22: =DBCS(入力シート!B45) | V22: =入力シート!D45 | AD22: =入力シート!H45 -> 0 | AJ22: =入力シート!L45
V23: =入力シート!C45 -> 0 | AR23: 日
J25: =DBCS(入力シート!B46) | V25: =入力シート!D46 | AD25: =入力シート!H46 -> 0 | AJ25: =入力シート!L46
V26: =入力シート!C46 -> 0 | AR26: 日
J28: =DBCS(入力シート!B47) | V28: =入力シート!D47 | AD28: =入力シート!H47 -> 0 | AJ28: =入力シート!L47
V29: =入力シート!C47 -> 0 | AR29: 日
J31: =DBCS(入力シート!B48) | V31: =入力シート!D48 | AD31: =入力シート!H48 -> 0 | AJ31: =入力シート!L48
V32: =入力シート!C48 -> 0 | AR32: 日
J34: =DBCS(入力シート!B49) | V34: =入力シート!D49 | AD34: =入力シート!H49 -> 0 | AJ34: =入力シート!L49
V35: =入力シート!C49 -> 0 | AR35: 日
B37: 無事故・無違反運動 のチーム結果 | J37: 達成 | P37: ・ | Q37: 未達成 | V37: 委任年月日 | AD37: 令和 | AG37: 8 | AH37: 年 | AI37: 6 | AK37: 月 | AN37: 30 | AQ37: 日
B41: 会社所在地 | K41: 〒 | L41: =入力シート!M3
L42: =入力シート!E3 -> 0 | AB42: 電話 | AD42: =入力シート!E4 -> 0
AB43: ＦＡＸ | AD43: =入力シート!E5 -> 0
B45: 送付先 ※上記と同じ場合は空欄 | K45: 〒 | L45: =入力シート!M42
L46: =入力シート!E42 -> 0
B48: 会社名 | L48: =入力シート!B3 -> 0
B51: 営業所名 | L51: =入力シート!C42 -> 0 | X51: ※ 達成時の認定証を営業所ごとに希望される場合のみご記入してください。 ※ 愛知県内の事業所のみが対象となります。
B53: チーム名 | L53: =入力シート!B42 -> 0
B56: 連絡先担当者 | L56: =入力シート!H3 -> 0 | V56: 電話番号(携帯電話等) | AC56: =入力シート!B5 -> 0
AB57: ※ 必ず日中連絡可能な連絡先を記入してください。
B59: メールアドレス | L59: =入力シート!C5 -> 0
AB62: 所属支部名： | AI62: =入力シート!H5 -> 0

Sheet チーム⑤
AM1: 別紙
C2: トラック・セーフティ・ラリー参加申込書・運転記録証明書交付申請書
C3: 委任状 （委任者一覧）
V4: （代理人） | Y4: 法人名 | AB4: 一般社団法人 愛知県トラック協会
Y5: (事業所名)
B8: 私たち、トラック・セーフティ・ラリー参加者は、代理人及びチーム代表者に運転記録証明書の交付申請手続き及び証明書受領にかかる一切の事務を委任しました。
B10: また、自動車安全運転センターが証明書の内容を交通事故防止の為、統計分析資料の作成に使用し提供すること、並びに無事故・無違反運動のチーム結果を代理人及びチーム代表者に通知すること、併せて下記事項についても同意いたします。
C13: 提供した情報を貴協会が本事業に必要な範囲において使用することに同意します。
C14: ① | D14: 申請者全員が委任事項に同意した | V14: ② | W14: 全員の押印（シャチハタ可、電子印不可）もしくはフルネームでの自署が揃った
C15: ③ | D15: １チーム5名で申請（※１チームに限り４名以下でオープン参加可能） | V15: ④ | W15: 他チームに委任者が重複していない
C16: ⑤ 申込事業所は愛知県内の認可営業所であり、愛知県外の営業所は含まれていない
B18: ※ | C18: 免許証番号の 間違い や 走り書き は結果の紹介が大きく遅延し、表彰対象から外れる恐れがあります。 また不備等により４名以下となったチームは未達成扱いとなり達成率が下がります。ご注意をお願いします。
B20: センター使用欄 （記入しないでください） | J20: 免許証番号 （※マイナ免許証のみ所有の場合はアプリで 免許証番号をご確認の上、記入ください） | V20: フリガナ | AD20: 職種 どちらかに○ | AG20: 印 もしくは 自署 （フルネーム） | AJ20: 生年月日
V21: 委任者氏名(※免許証通りに記入ください）
J22: =DBCS(入力シート!B56) | V22: =入力シート!D56 | AD22: =入力シート!H56 -> 0 | AJ22: =入力シート!L56
V23: =入力シート!C56 -> 0 | AR23: 日
J25: =DBCS(入力シート!B57) | V25: =入力シート!D57 | AD25: =入力シート!H57 -> 0 | AJ25: =入力シート!L57
V26: =入力シート!C57 -> 0 | AR26: 日
J28: =DBCS(入力シート!B58) | V28: =入力シート!D58 | AD28: =入力シート!H58 -> 0 | AJ28: =入力シート!L58
V29: =入力シート!C58 -> 0 | AR29: 日
J31: =DBCS(入力シート!B59) | V31: =入力シート!D59 | AD31: =入力シート!H59 -> 0 | AJ31: =入力シート!L59
V32: =入力シート!C59 -> 0 | AR32: 日
J34: =DBCS(入力シート!B60) | V34: =入力シート!D60 | AD34: =入力シート!H60 -> 0 | AJ34: =入力シート!L60
V35: =入力シート!C60 -> 0 | AR35: 日
B37: 無事故・無違反運動 のチーム結果 | J37: 達成 | P37: ・ | Q37: 未達成 | V37: 委任年月日 | AD37: 令和 | AG37: 8 | AH37: 年 | AI37: 6 | AK37: 月 | AN37: 30 | AQ37: 日
B41: 会社所在地 | K41: 〒 | L41: =入力シート!M3
L42: =入力シート!E3 -> 0 | AB42: 電話 | AD42: =入力シート!E4 -> 0
AB43: ＦＡＸ | AD43: =入力シート!E5 -> 0
B45: 送付先 ※上記と同じ場合は空欄 | K45: 〒 | L45: =入力シート!M53
L46: =入力シート!E53 -> 0
B48: 会社名 | L48: =入力シート!B3 -> 0
B51: 営業所名 | L51: =入力シート!C53 -> 0 | X51: ※ 達成時の認定証を営業所ごとに希望される場合のみご記入してください。 ※ 愛知県内の事業所のみが対象となります。
B53: チーム名 | L53: =入力シート!B53 -> 0
B56: 連絡先担当者 | L56: =入力シート!H3 -> 0 | V56: 電話番号(携帯電話等) | AC56: =入力シート!B5 -> 0
AB57: ※ 必ず日中連絡可能な連絡先を記入してください。
B59: メールアドレス | L59: =入力シート!C5 -> 0
AB62: 所属支部名： | AI62: =入力シート!H5 -> 0
